BEGIN:VCALENDAR
VERSION:2.0
PRODID:-//Eastern Arizona College - ECPv6.15.20//NONSGML v1.0//EN
CALSCALE:GREGORIAN
METHOD:PUBLISH
X-WR-CALNAME:Eastern Arizona College
X-ORIGINAL-URL:https://eac.edu
X-WR-CALDESC:Events for Eastern Arizona College
REFRESH-INTERVAL;VALUE=DURATION:PT1H
X-Robots-Tag:noindex
X-PUBLISHED-TTL:PT1H
BEGIN:VTIMEZONE
TZID:UTC
BEGIN:STANDARD
TZOFFSETFROM:+0000
TZOFFSETTO:+0000
TZNAME:UTC
DTSTART:20230101T000000
END:STANDARD
END:VTIMEZONE
BEGIN:VEVENT
DTSTART;TZID=UTC:20240905T170000
DTEND;TZID=UTC:20240905T180000
DTSTAMP:20260419T110307
CREATED:20240903T160441Z
LAST-MODIFIED:20240905T163419Z
UID:10003690-1725555600-1725559200@eac.edu
SUMMARY:EAC Drama Club Meeting
DESCRIPTION:EAC Drama Club Meeting
URL:https://eac.edu/event/eac-drama-club-meeting/
LOCATION:South Campus Classrooms – 3 Theater
CATEGORIES:Student Life
END:VEVENT
END:VCALENDAR