BEGIN:VCALENDAR
VERSION:2.0
PRODID:-//Eastern Arizona College - ECPv6.15.20//NONSGML v1.0//EN
CALSCALE:GREGORIAN
METHOD:PUBLISH
X-ORIGINAL-URL:https://eac.edu
X-WR-CALDESC:Events for Eastern Arizona College
REFRESH-INTERVAL;VALUE=DURATION:PT1H
X-Robots-Tag:noindex
X-PUBLISHED-TTL:PT1H
BEGIN:VTIMEZONE
TZID:UTC
BEGIN:STANDARD
TZOFFSETFROM:+0000
TZOFFSETTO:+0000
TZNAME:UTC
DTSTART:20230101T000000
END:STANDARD
END:VTIMEZONE
BEGIN:VEVENT
DTSTART;TZID=UTC:20250417T170000
DTEND;TZID=UTC:20250417T180000
DTSTAMP:20260419T092010
CREATED:20240903T161116Z
LAST-MODIFIED:20241009T103900Z
UID:10003703-1744909200-1744912800@eac.edu
SUMMARY:EAC Drama Club Meeting
DESCRIPTION:EAC Drama Club Meeting
URL:https://eac.edu/event/eac-drama-club-meeting-14/
LOCATION:South Campus Classrooms – 3 Theater
CATEGORIES:Student Life
END:VEVENT
BEGIN:VEVENT
DTSTART;TZID=UTC:20250403T170000
DTEND;TZID=UTC:20250403T180000
DTSTAMP:20260419T092010
CREATED:20240903T161103Z
LAST-MODIFIED:20241009T103859Z
UID:10003702-1743699600-1743703200@eac.edu
SUMMARY:EAC Drama Club Meeting
DESCRIPTION:EAC Drama Club Meeting
URL:https://eac.edu/event/eac-drama-club-meeting-13/
LOCATION:South Campus Classrooms – 3 Theater
CATEGORIES:Student Life
END:VEVENT
BEGIN:VEVENT
DTSTART;TZID=UTC:20250320T170000
DTEND;TZID=UTC:20250320T180000
DTSTAMP:20260419T092010
CREATED:20240903T161101Z
LAST-MODIFIED:20241009T103858Z
UID:10003701-1742490000-1742493600@eac.edu
SUMMARY:EAC Drama Club Meeting
DESCRIPTION:EAC Drama Club Meeting
URL:https://eac.edu/event/eac-drama-club-meeting-12/
LOCATION:South Campus Classrooms – 3 Theater
CATEGORIES:Student Life
END:VEVENT
BEGIN:VEVENT
DTSTART;TZID=UTC:20250306T170000
DTEND;TZID=UTC:20250306T180000
DTSTAMP:20260419T092010
CREATED:20240903T161101Z
LAST-MODIFIED:20241009T103846Z
UID:10003700-1741280400-1741284000@eac.edu
SUMMARY:EAC Drama Club Meeting
DESCRIPTION:EAC Drama Club Meeting
URL:https://eac.edu/event/eac-drama-club-meeting-11/
LOCATION:South Campus Classrooms – 3 Theater
CATEGORIES:Student Life
END:VEVENT
BEGIN:VEVENT
DTSTART;TZID=UTC:20241205T170000
DTEND;TZID=UTC:20241205T180000
DTSTAMP:20260419T092010
CREATED:20240903T161030Z
LAST-MODIFIED:20241009T103831Z
UID:10003696-1733418000-1733421600@eac.edu
SUMMARY:EAC Drama Club Meeting
DESCRIPTION:EAC Drama Club Meeting
URL:https://eac.edu/event/eac-drama-club-meeting-7/
LOCATION:South Campus Classrooms – 3 Theater
CATEGORIES:Student Life
END:VEVENT
BEGIN:VEVENT
DTSTART;TZID=UTC:20241121T170000
DTEND;TZID=UTC:20241121T180000
DTSTAMP:20260419T092010
CREATED:20240903T161001Z
LAST-MODIFIED:20241009T103751Z
UID:10003695-1732208400-1732212000@eac.edu
SUMMARY:EAC Drama Club Meeting
DESCRIPTION:EAC Drama Club Meeting
URL:https://eac.edu/event/eac-drama-club-meeting-6/
LOCATION:South Campus Classrooms – 3 Theater
CATEGORIES:Student Life
END:VEVENT
BEGIN:VEVENT
DTSTART;TZID=UTC:20241107T170000
DTEND;TZID=UTC:20241107T180000
DTSTAMP:20260419T092010
CREATED:20240903T160919Z
LAST-MODIFIED:20241009T103656Z
UID:10003694-1730998800-1731002400@eac.edu
SUMMARY:EAC Drama Club Meeting
DESCRIPTION:EAC Drama Club Meeting
URL:https://eac.edu/event/eac-drama-club-meeting-5/
LOCATION:South Campus Classrooms – 3 Theater
CATEGORIES:Student Life
END:VEVENT
BEGIN:VEVENT
DTSTART;TZID=UTC:20241017T170000
DTEND;TZID=UTC:20241017T180000
DTSTAMP:20260419T092010
CREATED:20240903T160742Z
LAST-MODIFIED:20241009T103507Z
UID:10003693-1729184400-1729188000@eac.edu
SUMMARY:EAC Drama Club Meeting
DESCRIPTION:EAC Drama Club Meeting
URL:https://eac.edu/event/eac-drama-club-meeting-4/
LOCATION:South Campus Classrooms – 3 Theater
CATEGORIES:Student Life
END:VEVENT
BEGIN:VEVENT
DTSTART;TZID=UTC:20241003T170000
DTEND;TZID=UTC:20241003T180000
DTSTAMP:20260419T092010
CREATED:20240903T160646Z
LAST-MODIFIED:20241002T230432Z
UID:10003692-1727974800-1727978400@eac.edu
SUMMARY:EAC Drama Club Meeting
DESCRIPTION:EAC Drama Club Meeting
URL:https://eac.edu/event/eac-drama-club-meeting-3/
LOCATION:South Campus Classrooms – 3 Theater
CATEGORIES:Student Life
END:VEVENT
BEGIN:VEVENT
DTSTART;TZID=UTC:20240919T170000
DTEND;TZID=UTC:20240919T180000
DTSTAMP:20260419T092010
CREATED:20240903T160551Z
LAST-MODIFIED:20240918T195025Z
UID:10003691-1726765200-1726768800@eac.edu
SUMMARY:EAC Drama Club Meeting
DESCRIPTION:EAC Drama Club Meeting
URL:https://eac.edu/event/eac-drama-club-meeting-2/
LOCATION:South Campus Classrooms – 3 Theater
CATEGORIES:Student Life
END:VEVENT
BEGIN:VEVENT
DTSTART;TZID=UTC:20240905T170000
DTEND;TZID=UTC:20240905T180000
DTSTAMP:20260419T092010
CREATED:20240903T160441Z
LAST-MODIFIED:20240905T163419Z
UID:10003690-1725555600-1725559200@eac.edu
SUMMARY:EAC Drama Club Meeting
DESCRIPTION:EAC Drama Club Meeting
URL:https://eac.edu/event/eac-drama-club-meeting/
LOCATION:South Campus Classrooms – 3 Theater
CATEGORIES:Student Life
END:VEVENT
END:VCALENDAR