BEGIN:VCALENDAR
VERSION:2.0
PRODID:-//Eastern Arizona College - ECPv6.15.20//NONSGML v1.0//EN
CALSCALE:GREGORIAN
METHOD:PUBLISH
X-WR-CALNAME:Eastern Arizona College
X-ORIGINAL-URL:https://eac.edu
X-WR-CALDESC:Events for Eastern Arizona College
REFRESH-INTERVAL;VALUE=DURATION:PT1H
X-Robots-Tag:noindex
X-PUBLISHED-TTL:PT1H
BEGIN:VTIMEZONE
TZID:UTC
BEGIN:STANDARD
TZOFFSETFROM:+0000
TZOFFSETTO:+0000
TZNAME:UTC
DTSTART:20230101T000000
END:STANDARD
END:VTIMEZONE
BEGIN:VEVENT
DTSTART;TZID=UTC:20241007T170000
DTEND;TZID=UTC:20241007T180000
DTSTAMP:20260421T133202
CREATED:20240930T223728Z
LAST-MODIFIED:20241006T235025Z
UID:10003863-1728320400-1728324000@eac.edu
SUMMARY:ASEAC Student Council Meeting
DESCRIPTION:ASEAC Student Council Meeting
URL:https://eac.edu/event/aseac-student-council-meeting-22/
LOCATION:Gherald L. Hoopes Jr. Activities Center – AC-127 Bonita Room
CATEGORIES:Student Life
END:VEVENT
BEGIN:VEVENT
DTSTART;TZID=UTC:20241004T193000
DTEND;TZID=UTC:20241004T223000
DTSTAMP:20260421T133202
CREATED:20240905T163640Z
LAST-MODIFIED:20241003T232040Z
UID:10003731-1728070200-1728081000@eac.edu
SUMMARY:EAC Table Top Gamers
DESCRIPTION:EAC Table Top Gamers
URL:https://eac.edu/event/eac-table-top-gamers-4/
LOCATION:Gherald L. Hoopes Jr. Activities Center – AC-127 Bonita Room
CATEGORIES:Student Life
END:VEVENT
BEGIN:VEVENT
DTSTART;TZID=UTC:20241002T193000
DTEND;TZID=UTC:20241002T223000
DTSTAMP:20260421T133202
CREATED:20240905T163626Z
LAST-MODIFIED:20241001T225044Z
UID:10003730-1727897400-1727908200@eac.edu
SUMMARY:EAC Table Top Gamers
DESCRIPTION:EAC Table Top Gamers
URL:https://eac.edu/event/eac-table-top-gamers-3/
LOCATION:Gherald L. Hoopes Jr. Activities Center – AC-127 Bonita Room
CATEGORIES:Student Life
END:VEVENT
BEGIN:VEVENT
DTSTART;TZID=UTC:20240930T170000
DTEND;TZID=UTC:20240930T180000
DTSTAMP:20260421T133202
CREATED:20240803T120445Z
LAST-MODIFIED:20240929T223442Z
UID:10003378-1727715600-1727719200@eac.edu
SUMMARY:ASEAC Student Council Meeting
DESCRIPTION:ASEAC Student Council Meeting
URL:https://eac.edu/event/aseac-student-council-meeting-12/
LOCATION:Gherald L. Hoopes Jr. Activities Center – AC-127 Bonita Room
CATEGORIES:Student Life
END:VEVENT
BEGIN:VEVENT
DTSTART;TZID=UTC:20240927T193000
DTEND;TZID=UTC:20240927T223000
DTSTAMP:20260421T133202
CREATED:20240905T163558Z
LAST-MODIFIED:20240927T220431Z
UID:10003729-1727465400-1727476200@eac.edu
SUMMARY:EAC Table Top Gamers
DESCRIPTION:EAC Table Top Gamers
URL:https://eac.edu/event/eac-table-top-gamers-2/
LOCATION:Gherald L. Hoopes Jr. Activities Center – AC-127 Bonita Room
CATEGORIES:Student Life
END:VEVENT
BEGIN:VEVENT
DTSTART;TZID=UTC:20240925T193000
DTEND;TZID=UTC:20240925T223000
DTSTAMP:20260421T133202
CREATED:20240905T163556Z
LAST-MODIFIED:20240925T213420Z
UID:10003728-1727292600-1727303400@eac.edu
SUMMARY:EAC Table Top Gamers
DESCRIPTION:EAC Table Top Gamers
URL:https://eac.edu/event/eac-table-top-gamers/
LOCATION:Gherald L. Hoopes Jr. Activities Center – AC-127 Bonita Room
CATEGORIES:Student Life
END:VEVENT
BEGIN:VEVENT
DTSTART;TZID=UTC:20240923T170000
DTEND;TZID=UTC:20240923T180000
DTSTAMP:20260421T133202
CREATED:20240803T120433Z
LAST-MODIFIED:20240922T204921Z
UID:10003377-1727110800-1727114400@eac.edu
SUMMARY:ASEAC Student Council Meeting
DESCRIPTION:ASEAC Student Council Meeting
URL:https://eac.edu/event/aseac-student-council-meeting-11/
LOCATION:Gherald L. Hoopes Jr. Activities Center – AC-127 Bonita Room
CATEGORIES:Student Life
END:VEVENT
BEGIN:VEVENT
DTSTART;TZID=UTC:20240916T170000
DTEND;TZID=UTC:20240916T180000
DTSTAMP:20260421T133202
CREATED:20240803T120432Z
LAST-MODIFIED:20240915T190418Z
UID:10003376-1726506000-1726509600@eac.edu
SUMMARY:ASEAC Student Council Meeting
DESCRIPTION:ASEAC Student Council Meeting
URL:https://eac.edu/event/aseac-student-council-meeting-10/
LOCATION:Gherald L. Hoopes Jr. Activities Center – AC-127 Bonita Room
CATEGORIES:Student Life
END:VEVENT
BEGIN:VEVENT
DTSTART;TZID=UTC:20240909T170000
DTEND;TZID=UTC:20240909T180000
DTSTAMP:20260421T133202
CREATED:20240803T120431Z
LAST-MODIFIED:20240909T173430Z
UID:10003375-1725901200-1725904800@eac.edu
SUMMARY:ASEAC Student Council Meeting
DESCRIPTION:ASEAC Student Council Meeting
URL:https://eac.edu/event/aseac-student-council-meeting-9/
LOCATION:Gherald L. Hoopes Jr. Activities Center – AC-127 Bonita Room
CATEGORIES:Student Life
END:VEVENT
BEGIN:VEVENT
DTSTART;TZID=UTC:20240826T170000
DTEND;TZID=UTC:20240826T180000
DTSTAMP:20260421T133202
CREATED:20240803T120419Z
LAST-MODIFIED:20240826T140426Z
UID:10003373-1724691600-1724695200@eac.edu
SUMMARY:ASEAC Student Council Meeting
DESCRIPTION:ASEAC Student Council Meeting
URL:https://eac.edu/event/aseac-student-council-meeting-8/
LOCATION:Gherald L. Hoopes Jr. Activities Center – AC-127 Bonita Room
CATEGORIES:Student Life
END:VEVENT
END:VCALENDAR