BEGIN:VCALENDAR
VERSION:2.0
PRODID:-//Eastern Arizona College - ECPv6.15.20//NONSGML v1.0//EN
CALSCALE:GREGORIAN
METHOD:PUBLISH
X-ORIGINAL-URL:https://eac.edu
X-WR-CALDESC:Events for Eastern Arizona College
REFRESH-INTERVAL;VALUE=DURATION:PT1H
X-Robots-Tag:noindex
X-PUBLISHED-TTL:PT1H
BEGIN:VTIMEZONE
TZID:America/Phoenix
BEGIN:STANDARD
TZOFFSETFROM:-0700
TZOFFSETTO:-0700
TZNAME:MST
DTSTART:20230101T000000
END:STANDARD
END:VTIMEZONE
BEGIN:VEVENT
DTSTART;TZID=America/Phoenix:20250411T180000
DTEND;TZID=America/Phoenix:20250412T120000
DTSTAMP:20260421T054615
CREATED:20250328T191958Z
LAST-MODIFIED:20250412T160433Z
UID:10003978-1744394400-1744459200@eac.edu
SUMMARY:Gila Hank's Sprint Triathlon (Swim-Bike-Run)
DESCRIPTION:
URL:https://eac.edu/event/gila-hanks-sprint-triathlon-swim-bike-run-2/
LOCATION:Eastern Arizona College\, 111 North Stadium Avenue\, Thatcher\, AZ\, 85552\, United States
CATEGORIES:Public
END:VEVENT
BEGIN:VEVENT
DTSTART;TZID=America/Phoenix:20240412T180000
DTEND;TZID=America/Phoenix:20240413T130000
DTSTAMP:20260421T054615
CREATED:20240410T032021Z
LAST-MODIFIED:20240413T164935Z
UID:10003245-1712944800-1713013200@eac.edu
SUMMARY:Gila Hank's Sprint Triathlon (Swim-Bike-Run)
DESCRIPTION:
URL:https://eac.edu/event/gila-hanks-sprint-triathlon-swim-bike-run/
LOCATION:Eastern Arizona College\, 111 North Stadium Avenue\, Thatcher\, AZ\, 85552\, United States
CATEGORIES:Public
END:VEVENT
END:VCALENDAR