BEGIN:VCALENDAR
VERSION:2.0
PRODID:-//Eastern Arizona College - ECPv6.15.20//NONSGML v1.0//EN
CALSCALE:GREGORIAN
METHOD:PUBLISH
X-ORIGINAL-URL:https://eac.edu
X-WR-CALDESC:Events for Eastern Arizona College
REFRESH-INTERVAL;VALUE=DURATION:PT1H
X-Robots-Tag:noindex
X-PUBLISHED-TTL:PT1H
BEGIN:VTIMEZONE
TZID:UTC
BEGIN:STANDARD
TZOFFSETFROM:+0000
TZOFFSETTO:+0000
TZNAME:UTC
DTSTART:20230101T000000
END:STANDARD
END:VTIMEZONE
BEGIN:VEVENT
DTSTART;TZID=UTC:20240402T090000
DTEND;TZID=UTC:20240402T140000
DTSTAMP:20260422T030810
CREATED:20240401T201921Z
LAST-MODIFIED:20240401T201921Z
UID:10003217-1712048400-1712066400@eac.edu
SUMMARY:Health Professions Club - Survey Table
DESCRIPTION:Health Professions Club – Survey Table
URL:https://eac.edu/event/health-professions-club-survey-table/
LOCATION:Academic Programs Building – NE Sidewalk
CATEGORIES:Student Life
END:VEVENT
END:VCALENDAR