BEGIN:VCALENDAR
VERSION:2.0
PRODID:-//Eastern Arizona College - ECPv6.15.20//NONSGML v1.0//EN
CALSCALE:GREGORIAN
METHOD:PUBLISH
X-ORIGINAL-URL:https://eac.edu
X-WR-CALDESC:Events for Eastern Arizona College
REFRESH-INTERVAL;VALUE=DURATION:PT1H
X-Robots-Tag:noindex
X-PUBLISHED-TTL:PT1H
BEGIN:VTIMEZONE
TZID:UTC
BEGIN:STANDARD
TZOFFSETFROM:+0000
TZOFFSETTO:+0000
TZNAME:UTC
DTSTART:20230101T000000
END:STANDARD
END:VTIMEZONE
BEGIN:VEVENT
DTSTART;TZID=UTC:20241014T100000
DTEND;TZID=UTC:20241014T130000
DTSTAMP:20260421T082245
CREATED:20240822T130704Z
LAST-MODIFIED:20241009T103438Z
UID:10003511-1728900000-1728910800@eac.edu
SUMMARY:Monster Exchange - EAC Students Food/Pantry
DESCRIPTION:Monster Exchange – EAC Students Food/Pantry
URL:https://eac.edu/event/monster-exchange-eac-students-food-pantry-73/
LOCATION:Middle Campus – Monster Exchange
CATEGORIES:Student Life
END:VEVENT
BEGIN:VEVENT
DTSTART;TZID=UTC:20241014T120000
DTEND;TZID=UTC:20241014T130000
DTSTAMP:20260421T082245
CREATED:20240920T202206Z
LAST-MODIFIED:20241009T103438Z
UID:10003837-1728907200-1728910800@eac.edu
SUMMARY:EAC Health Professions Club Meeting - Upstair...
DESCRIPTION:EAC Health Professions Club Meeting – Upstairs in Library
URL:https://eac.edu/event/eac-health-professions-club-meeting-upstair-16/
LOCATION:Alumni Library & Media Center – Library
CATEGORIES:Student Life
END:VEVENT
BEGIN:VEVENT
DTSTART;TZID=UTC:20241014T130000
DTEND;TZID=UTC:20241014T160000
DTSTAMP:20260421T082245
CREATED:20240822T130704Z
LAST-MODIFIED:20241009T103437Z
UID:10003512-1728910800-1728921600@eac.edu
SUMMARY:Open Swim - FULL-TIME EAC STUDENTS ONLY
DESCRIPTION:Open Swim – FULL-TIME EAC STUDENTS ONLY
URL:https://eac.edu/event/open-swim-full-time-eac-students-only-88/
LOCATION:Swimming Pool – POOL
CATEGORIES:Student Life
END:VEVENT
BEGIN:VEVENT
DTSTART;TZID=UTC:20241014T160000
DTEND;TZID=UTC:20241014T170000
DTSTAMP:20260421T082245
CREATED:20240816T120508Z
LAST-MODIFIED:20241009T103438Z
UID:10003392-1728921600-1728925200@eac.edu
SUMMARY:EAC EMS Club Meeting
DESCRIPTION:EAC EMS Club Meeting
URL:https://eac.edu/event/eac-ems-club-meeting-2/
LOCATION:North Campus Classrooms – 5
CATEGORIES:Student Life
END:VEVENT
BEGIN:VEVENT
DTSTART;TZID=UTC:20241014T170000
DTEND;TZID=UTC:20241014T180000
DTSTAMP:20260421T082245
CREATED:20240930T223808Z
LAST-MODIFIED:20241009T103438Z
UID:10003865-1728925200-1728928800@eac.edu
SUMMARY:ASEAC Student Council Meeting
DESCRIPTION:ASEAC Student Council Meeting
URL:https://eac.edu/event/aseac-student-council-meeting-23/
LOCATION:Gherald L. Hoopes Jr. Activities Center – AC-127 Bonita Room
CATEGORIES:Student Life
END:VEVENT
BEGIN:VEVENT
DTSTART;TZID=UTC:20241015T100000
DTEND;TZID=UTC:20241015T130000
DTSTAMP:20260421T082245
CREATED:20240822T130717Z
LAST-MODIFIED:20241009T103438Z
UID:10003513-1728986400-1728997200@eac.edu
SUMMARY:Monster Exchange - EAC Students Food/Pantry
DESCRIPTION:Monster Exchange – EAC Students Food/Pantry
URL:https://eac.edu/event/monster-exchange-eac-students-food-pantry-74/
LOCATION:Middle Campus – Monster Exchange
CATEGORIES:Student Life
END:VEVENT
BEGIN:VEVENT
DTSTART;TZID=UTC:20241015T130000
DTEND;TZID=UTC:20241015T135000
DTSTAMP:20260421T082245
CREATED:20240827T142220Z
LAST-MODIFIED:20241009T103438Z
UID:10003632-1728997200-1729000200@eac.edu
SUMMARY:EAC Omega Monsters Meeting
DESCRIPTION:EAC Omega Monsters Meeting
URL:https://eac.edu/event/eac-omega-monsters-meeting-4/
LOCATION:Alumni Library & Media Center – Group Study Room #5\, #6
CATEGORIES:Student Life
END:VEVENT
BEGIN:VEVENT
DTSTART;TZID=UTC:20241015T130000
DTEND;TZID=UTC:20241015T140000
DTSTAMP:20260421T082245
CREATED:20240913T183714Z
LAST-MODIFIED:20241009T103439Z
UID:10003802-1728997200-1729000800@eac.edu
SUMMARY:EAC Multi-Cultural Club Meeting
DESCRIPTION:EAC Multi-Cultural Club Meeting
URL:https://eac.edu/event/eac-multi-cultural-club-meeting-5/
LOCATION:Academic Programs Building – 123 Language Computer Lab
CATEGORIES:Student Life
END:VEVENT
BEGIN:VEVENT
DTSTART;TZID=UTC:20241015T130000
DTEND;TZID=UTC:20241015T160000
DTSTAMP:20260421T082245
CREATED:20240822T130717Z
LAST-MODIFIED:20241009T103451Z
UID:10003514-1728997200-1729008000@eac.edu
SUMMARY:Open Swim - FULL-TIME EAC STUDENTS ONLY
DESCRIPTION:Open Swim – FULL-TIME EAC STUDENTS ONLY
URL:https://eac.edu/event/open-swim-full-time-eac-students-only-89/
LOCATION:Swimming Pool – POOL
CATEGORIES:Student Life
END:VEVENT
BEGIN:VEVENT
DTSTART;TZID=UTC:20241015T160000
DTEND;TZID=UTC:20241015T170000
DTSTAMP:20260421T082245
CREATED:20240820T123530Z
LAST-MODIFIED:20241009T103451Z
UID:10003403-1729008000-1729011600@eac.edu
SUMMARY:EAC Advance Team Meeting
DESCRIPTION:EAC Advance Team Meeting
URL:https://eac.edu/event/eac-advance-team-meeting-9/
LOCATION:Academic Programs Building – 111
CATEGORIES:Student Life
END:VEVENT
BEGIN:VEVENT
DTSTART;TZID=UTC:20241015T180000
DTEND;TZID=UTC:20241015T200000
DTSTAMP:20260421T082245
CREATED:20240930T223809Z
LAST-MODIFIED:20241009T103452Z
UID:10003866-1729015200-1729022400@eac.edu
SUMMARY:ASEAC - "Taste from Home"
DESCRIPTION:ASEAC – “Taste from Home”
URL:https://eac.edu/event/aseac-taste-from-home/
LOCATION:Gherald L. Hoopes Jr. Activities Center – Lobby
CATEGORIES:Student Life
END:VEVENT
BEGIN:VEVENT
DTSTART;TZID=UTC:20241015T190000
DTEND;TZID=UTC:20241015T200000
DTSTAMP:20260421T082245
CREATED:20240828T143744Z
LAST-MODIFIED:20241009T103452Z
UID:10003656-1729018800-1729022400@eac.edu
SUMMARY:EAC Pride Monsters Club Meeting
DESCRIPTION:EAC Pride Monsters Club Meeting
URL:https://eac.edu/event/eac-pride-monsters-club-meeting-7/
LOCATION:Alumni Library & Media Center – Group Study Room #5\, #6
CATEGORIES:Student Life
END:VEVENT
BEGIN:VEVENT
DTSTART;TZID=UTC:20241016T100000
DTEND;TZID=UTC:20241016T130000
DTSTAMP:20260421T082245
CREATED:20240822T130717Z
LAST-MODIFIED:20241009T103452Z
UID:10003515-1729072800-1729083600@eac.edu
SUMMARY:Monster Exchange - EAC Students Food/Pantry
DESCRIPTION:Monster Exchange – EAC Students Food/Pantry
URL:https://eac.edu/event/monster-exchange-eac-students-food-pantry-75/
LOCATION:Middle Campus – Monster Exchange
CATEGORIES:Student Life
END:VEVENT
BEGIN:VEVENT
DTSTART;TZID=UTC:20241016T120000
DTEND;TZID=UTC:20241016T124500
DTSTAMP:20260421T082245
CREATED:20240822T130718Z
LAST-MODIFIED:20241009T103452Z
UID:10003516-1729080000-1729082700@eac.edu
SUMMARY:EAC Non Partisan Club - Meeting
DESCRIPTION:EAC Non Partisan Club – Meeting
URL:https://eac.edu/event/eac-non-partisan-club-meeting-4/
LOCATION:Academic Programs Building – 115
CATEGORIES:Student Life
END:VEVENT
BEGIN:VEVENT
DTSTART;TZID=UTC:20241016T120000
DTEND;TZID=UTC:20241016T130000
DTSTAMP:20260421T082245
CREATED:20240823T132227Z
LAST-MODIFIED:20241009T103452Z
UID:10003601-1729080000-1729083600@eac.edu
SUMMARY:EAC Intertribal Club Meeting
DESCRIPTION:EAC Intertribal Club Meeting
URL:https://eac.edu/event/eac-intertribal-club-meeting-17/
LOCATION:North Campus – Recreation Area
CATEGORIES:Student Life
END:VEVENT
BEGIN:VEVENT
DTSTART;TZID=UTC:20241016T130000
DTEND;TZID=UTC:20241016T160000
DTSTAMP:20260421T082245
CREATED:20240822T130718Z
LAST-MODIFIED:20241009T103452Z
UID:10003517-1729083600-1729094400@eac.edu
SUMMARY:Open Swim - FULL-TIME EAC STUDENTS ONLY
DESCRIPTION:Open Swim – FULL-TIME EAC STUDENTS ONLY
URL:https://eac.edu/event/open-swim-full-time-eac-students-only-90/
LOCATION:Swimming Pool – POOL
CATEGORIES:Student Life
END:VEVENT
BEGIN:VEVENT
DTSTART;TZID=UTC:20241016T170000
DTEND;TZID=UTC:20241016T174500
DTSTAMP:20260421T082245
CREATED:20240828T143745Z
LAST-MODIFIED:20241009T103452Z
UID:10003657-1729098000-1729100700@eac.edu
SUMMARY:EAC Outdoors Club Meeting
DESCRIPTION:EAC Outdoors Club Meeting
URL:https://eac.edu/event/eac-outdoors-club-meeting-8/
LOCATION:Science and Allied Health Building – 316 – Geology / Astronomy
CATEGORIES:Student Life
END:VEVENT
BEGIN:VEVENT
DTSTART;TZID=UTC:20241016T193000
DTEND;TZID=UTC:20241016T223000
DTSTAMP:20260421T082245
CREATED:20240905T163721Z
LAST-MODIFIED:20241009T103453Z
UID:10003733-1729107000-1729117800@eac.edu
SUMMARY:EAC Table Top Gamers
DESCRIPTION:EAC Table Top Gamers
URL:https://eac.edu/event/eac-table-top-gamers-6/
LOCATION:Gherald L. Hoopes Jr. Activities Center – AC-127 Bonita Room
CATEGORIES:Student Life
END:VEVENT
BEGIN:VEVENT
DTSTART;TZID=UTC:20241017T100000
DTEND;TZID=UTC:20241017T130000
DTSTAMP:20260421T082245
CREATED:20240822T130718Z
LAST-MODIFIED:20241009T103506Z
UID:10003518-1729159200-1729170000@eac.edu
SUMMARY:Monster Exchange - EAC Students Food/Pantry
DESCRIPTION:Monster Exchange – EAC Students Food/Pantry
URL:https://eac.edu/event/monster-exchange-eac-students-food-pantry-76/
LOCATION:Middle Campus – Monster Exchange
CATEGORIES:Student Life
END:VEVENT
BEGIN:VEVENT
DTSTART;TZID=UTC:20241017T130000
DTEND;TZID=UTC:20241017T160000
DTSTAMP:20260421T082245
CREATED:20240822T130718Z
LAST-MODIFIED:20241009T103506Z
UID:10003519-1729170000-1729180800@eac.edu
SUMMARY:Open Swim - FULL-TIME EAC STUDENTS ONLY
DESCRIPTION:Open Swim – FULL-TIME EAC STUDENTS ONLY
URL:https://eac.edu/event/open-swim-full-time-eac-students-only-91/
LOCATION:Swimming Pool – POOL
CATEGORIES:Student Life
END:VEVENT
BEGIN:VEVENT
DTSTART;TZID=UTC:20241017T170000
DTEND;TZID=UTC:20241017T180000
DTSTAMP:20260421T082245
CREATED:20240903T160742Z
LAST-MODIFIED:20241009T103507Z
UID:10003693-1729184400-1729188000@eac.edu
SUMMARY:EAC Drama Club Meeting
DESCRIPTION:EAC Drama Club Meeting
URL:https://eac.edu/event/eac-drama-club-meeting-4/
LOCATION:South Campus Classrooms – 3 Theater
CATEGORIES:Student Life
END:VEVENT
BEGIN:VEVENT
DTSTART;TZID=UTC:20241017T170000
DTEND;TZID=UTC:20241017T180000
DTSTAMP:20260421T082245
CREATED:20240927T220618Z
LAST-MODIFIED:20241009T103506Z
UID:10003859-1729184400-1729188000@eac.edu
SUMMARY:EAC - The Democratic Club Meeting
DESCRIPTION:EAC – The Democratic Club Meeting
URL:https://eac.edu/event/eac-the-democratic-club-meeting-10/
LOCATION:Alumni Library & Media Center – Group Study Room #5\, #6
CATEGORIES:Student Life
END:VEVENT
BEGIN:VEVENT
DTSTART;TZID=UTC:20241017T190000
DTEND;TZID=UTC:20241017T210000
DTSTAMP:20260421T082245
CREATED:20240910T175227Z
LAST-MODIFIED:20241009T103507Z
UID:10003781-1729191600-1729198800@eac.edu
SUMMARY:EAC Intramural - Indoor Soccer League
DESCRIPTION:EAC Intramural – Indoor Soccer League
URL:https://eac.edu/event/eac-intramural-indoor-soccer-league-3/
LOCATION:Guitteau Gymnasium & Wellness Center – 1 – Gymnasium
CATEGORIES:Student Life
END:VEVENT
BEGIN:VEVENT
DTSTART;TZID=UTC:20241018T100000
DTEND;TZID=UTC:20241018T130000
DTSTAMP:20260421T082245
CREATED:20240822T130731Z
LAST-MODIFIED:20241009T103507Z
UID:10003521-1729245600-1729256400@eac.edu
SUMMARY:Monster Exchange - EAC Students Food/Pantry
DESCRIPTION:Monster Exchange – EAC Students Food/Pantry
URL:https://eac.edu/event/monster-exchange-eac-students-food-pantry-77/
LOCATION:Middle Campus – Monster Exchange
CATEGORIES:Student Life
END:VEVENT
BEGIN:VEVENT
DTSTART;TZID=UTC:20241018T130000
DTEND;TZID=UTC:20241018T160000
DTSTAMP:20260421T082245
CREATED:20240822T130719Z
LAST-MODIFIED:20241009T103507Z
UID:10003520-1729256400-1729267200@eac.edu
SUMMARY:Open Swim - FULL-TIME EAC STUDENTS ONLY
DESCRIPTION:Open Swim – FULL-TIME EAC STUDENTS ONLY
URL:https://eac.edu/event/open-swim-full-time-eac-students-only-92/
LOCATION:Swimming Pool – POOL
CATEGORIES:Student Life
END:VEVENT
BEGIN:VEVENT
DTSTART;TZID=UTC:20241018T150000
DTEND;TZID=UTC:20241018T160000
DTSTAMP:20260421T082245
CREATED:20240910T175239Z
LAST-MODIFIED:20241009T103507Z
UID:10003782-1729263600-1729267200@eac.edu
SUMMARY:EAC STEM Club Meeting
DESCRIPTION:EAC STEM Club Meeting
URL:https://eac.edu/event/eac-stem-club-meeting-14/
LOCATION:North Campus Classrooms – 1
CATEGORIES:Student Life
END:VEVENT
BEGIN:VEVENT
DTSTART;TZID=UTC:20241018T190000
DTEND;TZID=UTC:20241018T210000
DTSTAMP:20260421T082245
CREATED:20241001T225208Z
LAST-MODIFIED:20241009T103508Z
UID:10003875-1729278000-1729285200@eac.edu
SUMMARY:ASEAC - Cookie Decorating & Hot Chocolate
DESCRIPTION:ASEAC – Cookie Decorating & Hot Chocolate
URL:https://eac.edu/event/aseac-cookie-decorating-hot-chocolate/
LOCATION:Gherald L. Hoopes Jr. Activities Center – South Patio
CATEGORIES:Student Life
END:VEVENT
BEGIN:VEVENT
DTSTART;TZID=UTC:20241019T130000
DTEND;TZID=UTC:20241019T160000
DTSTAMP:20260421T082245
CREATED:20240822T130732Z
LAST-MODIFIED:20241009T103508Z
UID:10003522-1729342800-1729353600@eac.edu
SUMMARY:Open Swim - FULL-TIME EAC STUDENTS ONLY
DESCRIPTION:Open Swim – FULL-TIME EAC STUDENTS ONLY
URL:https://eac.edu/event/open-swim-full-time-eac-students-only-93/
LOCATION:Swimming Pool – POOL
CATEGORIES:Student Life
END:VEVENT
BEGIN:VEVENT
DTSTART;TZID=UTC:20241021T100000
DTEND;TZID=UTC:20241021T130000
DTSTAMP:20260421T082245
CREATED:20240822T130732Z
LAST-MODIFIED:20241009T103519Z
UID:10003523-1729504800-1729515600@eac.edu
SUMMARY:Monster Exchange - EAC Students Food/Pantry
DESCRIPTION:Monster Exchange – EAC Students Food/Pantry
URL:https://eac.edu/event/monster-exchange-eac-students-food-pantry-78/
LOCATION:Middle Campus – Monster Exchange
CATEGORIES:Student Life
END:VEVENT
BEGIN:VEVENT
DTSTART;TZID=UTC:20241021T120000
DTEND;TZID=UTC:20241021T130000
DTSTAMP:20260421T082245
CREATED:20240920T202249Z
LAST-MODIFIED:20241009T103520Z
UID:10003838-1729512000-1729515600@eac.edu
SUMMARY:EAC Health Professions Club Meeting - Upstair...
DESCRIPTION:EAC Health Professions Club Meeting – Upstairs in Library
URL:https://eac.edu/event/eac-health-professions-club-meeting-upstair-17/
LOCATION:Alumni Library & Media Center – Library
CATEGORIES:Student Life
END:VEVENT
END:VCALENDAR