BEGIN:VCALENDAR
VERSION:2.0
PRODID:-//Eastern Arizona College - ECPv6.15.20//NONSGML v1.0//EN
CALSCALE:GREGORIAN
METHOD:PUBLISH
X-ORIGINAL-URL:https://eac.edu
X-WR-CALDESC:Events for Eastern Arizona College
REFRESH-INTERVAL;VALUE=DURATION:PT1H
X-Robots-Tag:noindex
X-PUBLISHED-TTL:PT1H
BEGIN:VTIMEZONE
TZID:UTC
BEGIN:STANDARD
TZOFFSETFROM:+0000
TZOFFSETTO:+0000
TZNAME:UTC
DTSTART:20230101T000000
END:STANDARD
END:VTIMEZONE
BEGIN:VEVENT
DTSTART;TZID=UTC:20241122T100000
DTEND;TZID=UTC:20241122T130000
DTSTAMP:20260420T151424
CREATED:20240822T130858Z
LAST-MODIFIED:20241009T103751Z
UID:10003565-1732269600-1732280400@eac.edu
SUMMARY:Monster Exchange - EAC Students Food/Pantry
DESCRIPTION:Monster Exchange – EAC Students Food/Pantry
URL:https://eac.edu/event/monster-exchange-eac-students-food-pantry-101/
LOCATION:Middle Campus – Monster Exchange
CATEGORIES:Student Life
END:VEVENT
BEGIN:VEVENT
DTSTART;TZID=UTC:20241122T150000
DTEND;TZID=UTC:20241122T160000
DTSTAMP:20260420T151424
CREATED:20240910T175456Z
LAST-MODIFIED:20241009T103751Z
UID:10003793-1732287600-1732291200@eac.edu
SUMMARY:EAC STEM Club Meeting
DESCRIPTION:EAC STEM Club Meeting
URL:https://eac.edu/event/eac-stem-club-meeting-19/
LOCATION:North Campus Classrooms – 1
CATEGORIES:Student Life
END:VEVENT
BEGIN:VEVENT
DTSTART;TZID=UTC:20241122T190000
DTEND;TZID=UTC:20241122T203000
DTSTAMP:20260420T151424
CREATED:20241001T225454Z
LAST-MODIFIED:20241009T103752Z
UID:10003877-1732302000-1732307400@eac.edu
SUMMARY:ASEAC - Lantern Festival
DESCRIPTION:ASEAC – Lantern Festival
URL:https://eac.edu/event/aseac-lantern-festival/
LOCATION:Track/Football Field – Soccer Field & Stands w/prep w/lights
CATEGORIES:Student Life
END:VEVENT
BEGIN:VEVENT
DTSTART;TZID=UTC:20241122T193000
DTEND;TZID=UTC:20241122T223000
DTSTAMP:20260420T151424
CREATED:20240905T163950Z
LAST-MODIFIED:20241009T103752Z
UID:10003743-1732303800-1732314600@eac.edu
SUMMARY:EAC Table Top Gamers
DESCRIPTION:EAC Table Top Gamers
URL:https://eac.edu/event/eac-table-top-gamers-16/
LOCATION:Gherald L. Hoopes Jr. Activities Center – AC-127 Bonita Room
CATEGORIES:Student Life
END:VEVENT
END:VCALENDAR