BEGIN:VCALENDAR
VERSION:2.0
PRODID:-//Eastern Arizona College - ECPv6.15.20//NONSGML v1.0//EN
CALSCALE:GREGORIAN
METHOD:PUBLISH
X-WR-CALNAME:Eastern Arizona College
X-ORIGINAL-URL:https://eac.edu
X-WR-CALDESC:Events for Eastern Arizona College
REFRESH-INTERVAL;VALUE=DURATION:PT1H
X-Robots-Tag:noindex
X-PUBLISHED-TTL:PT1H
BEGIN:VTIMEZONE
TZID:UTC
BEGIN:STANDARD
TZOFFSETFROM:+0000
TZOFFSETTO:+0000
TZNAME:UTC
DTSTART:20230101T000000
END:STANDARD
END:VTIMEZONE
BEGIN:VTIMEZONE
TZID:America/Phoenix
BEGIN:STANDARD
TZOFFSETFROM:-0700
TZOFFSETTO:-0700
TZNAME:MST
DTSTART:20230101T000000
END:STANDARD
END:VTIMEZONE
BEGIN:VEVENT
DTSTART;TZID=UTC:20240925T100000
DTEND;TZID=UTC:20240925T130000
DTSTAMP:20260424T051009
CREATED:20240822T130605Z
LAST-MODIFIED:20240924T212121Z
UID:10003482-1727258400-1727269200@eac.edu
SUMMARY:Monster Exchange - EAC Students Food/Pantry
DESCRIPTION:Monster Exchange – EAC Students Food/Pantry
URL:https://eac.edu/event/monster-exchange-eac-students-food-pantry-61/
LOCATION:Middle Campus – Monster Exchange
CATEGORIES:Student Life
END:VEVENT
BEGIN:VEVENT
DTSTART;TZID=UTC:20240925T120000
DTEND;TZID=UTC:20240925T130000
DTSTAMP:20260424T051009
CREATED:20240823T132118Z
LAST-MODIFIED:20240924T212122Z
UID:10003596-1727265600-1727269200@eac.edu
SUMMARY:EAC Intertribal Club Meeting
DESCRIPTION:EAC Intertribal Club Meeting
URL:https://eac.edu/event/eac-intertribal-club-meeting-14/
LOCATION:North Campus – Recreation Area
CATEGORIES:Student Life
END:VEVENT
BEGIN:VEVENT
DTSTART;TZID=UTC:20240925T130000
DTEND;TZID=UTC:20240925T160000
DTSTAMP:20260424T051009
CREATED:20240822T130605Z
LAST-MODIFIED:20240924T212122Z
UID:10003483-1727269200-1727280000@eac.edu
SUMMARY:Open Swim - FULL-TIME EAC STUDENTS ONLY
DESCRIPTION:Open Swim – FULL-TIME EAC STUDENTS ONLY
URL:https://eac.edu/event/open-swim-full-time-eac-students-only-72/
LOCATION:Swimming Pool – POOL
CATEGORIES:Student Life
END:VEVENT
BEGIN:VEVENT
DTSTART;TZID=UTC:20240925T170000
DTEND;TZID=UTC:20240925T174500
DTSTAMP:20260424T051009
CREATED:20240828T143622Z
LAST-MODIFIED:20240924T212122Z
UID:10003651-1727283600-1727286300@eac.edu
SUMMARY:EAC Outdoors Club Meeting
DESCRIPTION:EAC Outdoors Club Meeting
URL:https://eac.edu/event/eac-outdoors-club-meeting-5/
LOCATION:Science and Allied Health Building – 316 – Geology / Astronomy
CATEGORIES:Student Life
END:VEVENT
BEGIN:VEVENT
DTSTART;TZID=UTC:20240925T170000
DTEND;TZID=UTC:20240925T180000
DTSTAMP:20260424T051009
CREATED:20240823T132118Z
LAST-MODIFIED:20240924T212122Z
UID:10003597-1727283600-1727287200@eac.edu
SUMMARY:EAC Rodeo Club Meeting
DESCRIPTION:EAC Rodeo Club Meeting
URL:https://eac.edu/event/eac-rodeo-club-meeting-5/
LOCATION:Wayne M. McGrath Center for Business and Information Technology – 102 – Computer Commons
CATEGORIES:Student Life
END:VEVENT
BEGIN:VEVENT
DTSTART;TZID=America/Phoenix:20240925T183000
DTEND;TZID=America/Phoenix:20240925T200000
DTSTAMP:20260424T051009
CREATED:20240918T033527Z
LAST-MODIFIED:20240925T213432Z
UID:10003814-1727289000-1727294400@eac.edu
SUMMARY:EAC Teen Theatre - Lily's Lament ~or~ It'll All Come Out in the Wash
DESCRIPTION:
URL:https://eac.edu/event/eac-teen-theatre-lilys-lament-or-itll-all-come-out-in-the-wash/
LOCATION:Activities Center – Lee Little Theater\, 1020 North Stadium Avenue\, Thatcher\, AZ\, 85552\, United States
CATEGORIES:Public
END:VEVENT
BEGIN:VEVENT
DTSTART;TZID=UTC:20240925T193000
DTEND;TZID=UTC:20240925T223000
DTSTAMP:20260424T051009
CREATED:20240905T163556Z
LAST-MODIFIED:20240925T213420Z
UID:10003728-1727292600-1727303400@eac.edu
SUMMARY:EAC Table Top Gamers
DESCRIPTION:EAC Table Top Gamers
URL:https://eac.edu/event/eac-table-top-gamers/
LOCATION:Gherald L. Hoopes Jr. Activities Center – AC-127 Bonita Room
CATEGORIES:Student Life
END:VEVENT
END:VCALENDAR