BEGIN:VCALENDAR
VERSION:2.0
PRODID:-//Eastern Arizona College - ECPv6.15.20//NONSGML v1.0//EN
CALSCALE:GREGORIAN
METHOD:PUBLISH
X-WR-CALNAME:Eastern Arizona College
X-ORIGINAL-URL:https://eac.edu
X-WR-CALDESC:Events for Eastern Arizona College
REFRESH-INTERVAL;VALUE=DURATION:PT1H
X-Robots-Tag:noindex
X-PUBLISHED-TTL:PT1H
BEGIN:VTIMEZONE
TZID:UTC
BEGIN:STANDARD
TZOFFSETFROM:+0000
TZOFFSETTO:+0000
TZNAME:UTC
DTSTART:20230101T000000
END:STANDARD
END:VTIMEZONE
BEGIN:VEVENT
DTSTART;TZID=UTC:20240924T100000
DTEND;TZID=UTC:20240924T130000
DTSTAMP:20260422T080039
CREATED:20240822T130604Z
LAST-MODIFIED:20240923T210418Z
UID:10003480-1727172000-1727182800@eac.edu
SUMMARY:Monster Exchange - EAC Students Food/Pantry
DESCRIPTION:Monster Exchange – EAC Students Food/Pantry
URL:https://eac.edu/event/monster-exchange-eac-students-food-pantry-60/
LOCATION:Middle Campus – Monster Exchange
CATEGORIES:Student Life
END:VEVENT
BEGIN:VEVENT
DTSTART;TZID=UTC:20240924T130000
DTEND;TZID=UTC:20240924T140000
DTSTAMP:20260422T080039
CREATED:20240913T183535Z
LAST-MODIFIED:20240923T210419Z
UID:10003797-1727182800-1727186400@eac.edu
SUMMARY:EAC Multi-Cultural Club Meeting
DESCRIPTION:EAC Multi-Cultural Club Meeting
URL:https://eac.edu/event/eac-multi-cultural-club-meeting-2/
LOCATION:Academic Programs Building – 123 Language Computer Lab
CATEGORIES:Student Life
END:VEVENT
BEGIN:VEVENT
DTSTART;TZID=UTC:20240924T130000
DTEND;TZID=UTC:20240924T160000
DTSTAMP:20260422T080039
CREATED:20240822T130604Z
LAST-MODIFIED:20240923T210419Z
UID:10003481-1727182800-1727193600@eac.edu
SUMMARY:Open Swim - FULL-TIME EAC STUDENTS ONLY
DESCRIPTION:Open Swim – FULL-TIME EAC STUDENTS ONLY
URL:https://eac.edu/event/open-swim-full-time-eac-students-only-71/
LOCATION:Swimming Pool – POOL
CATEGORIES:Student Life
END:VEVENT
BEGIN:VEVENT
DTSTART;TZID=UTC:20240924T160000
DTEND;TZID=UTC:20240924T170000
DTSTAMP:20260422T080039
CREATED:20240820T123503Z
LAST-MODIFIED:20240923T210419Z
UID:10003400-1727193600-1727197200@eac.edu
SUMMARY:EAC Advance Team Meeting
DESCRIPTION:EAC Advance Team Meeting
URL:https://eac.edu/event/eac-advance-team-meeting-6/
LOCATION:Academic Programs Building – 111
CATEGORIES:Student Life
END:VEVENT
BEGIN:VEVENT
DTSTART;TZID=UTC:20240924T190000
DTEND;TZID=UTC:20240924T200000
DTSTAMP:20260422T080039
CREATED:20240828T143621Z
LAST-MODIFIED:20240923T210419Z
UID:10003650-1727204400-1727208000@eac.edu
SUMMARY:EAC Pride Monsters Club Meeting
DESCRIPTION:EAC Pride Monsters Club Meeting
URL:https://eac.edu/event/eac-pride-monsters-club-meeting-4/
LOCATION:Alumni Library & Media Center – Group Study Room #5\, #6
CATEGORIES:Student Life
END:VEVENT
END:VCALENDAR