BEGIN:VCALENDAR
VERSION:2.0
PRODID:-//Eastern Arizona College - ECPv6.15.20//NONSGML v1.0//EN
CALSCALE:GREGORIAN
METHOD:PUBLISH
X-WR-CALNAME:Eastern Arizona College
X-ORIGINAL-URL:https://eac.edu
X-WR-CALDESC:Events for Eastern Arizona College
REFRESH-INTERVAL;VALUE=DURATION:PT1H
X-Robots-Tag:noindex
X-PUBLISHED-TTL:PT1H
BEGIN:VTIMEZONE
TZID:America/Phoenix
BEGIN:STANDARD
TZOFFSETFROM:-0700
TZOFFSETTO:-0700
TZNAME:MST
DTSTART:20230101T000000
END:STANDARD
END:VTIMEZONE
BEGIN:VTIMEZONE
TZID:UTC
BEGIN:STANDARD
TZOFFSETFROM:+0000
TZOFFSETTO:+0000
TZNAME:UTC
DTSTART:20230101T000000
END:STANDARD
END:VTIMEZONE
BEGIN:VEVENT
DTSTART;TZID=America/Phoenix:20240911T153000
DTEND;TZID=America/Phoenix:20240923T170000
DTSTAMP:20260422T075723
CREATED:20240822T213450Z
LAST-MODIFIED:20240923T230433Z
UID:10003583-1726068600-1727110800@eac.edu
SUMMARY:Auditions - Children's Theatre  - Disney's My Son Pinocchio.
DESCRIPTION:
URL:https://eac.edu/event/auditions-childrens-theatre-disneys-my-son-pinocchio/
LOCATION:EAC Lee Little Theater\, 1020 North College Avenue\, Thatcher\, AZ\, 85552\, United States
CATEGORIES:Public
END:VEVENT
BEGIN:VEVENT
DTSTART;TZID=UTC:20240912T100000
DTEND;TZID=UTC:20240912T130000
DTSTAMP:20260422T075723
CREATED:20240822T130520Z
LAST-MODIFIED:20240911T180423Z
UID:10003461-1726135200-1726146000@eac.edu
SUMMARY:Monster Exchange - EAC Students Food/Pantry
DESCRIPTION:Monster Exchange – EAC Students Food/Pantry
URL:https://eac.edu/event/monster-exchange-eac-students-food-pantry-52/
LOCATION:Middle Campus – Monster Exchange
CATEGORIES:Student Life
END:VEVENT
BEGIN:VEVENT
DTSTART;TZID=UTC:20240912T110000
DTEND;TZID=UTC:20240912T120000
DTSTAMP:20260422T075723
CREATED:20240907T170438Z
LAST-MODIFIED:20240911T180423Z
UID:10003746-1726138800-1726142400@eac.edu
SUMMARY:Phi Theta Kappa Orientation
DESCRIPTION:Phi Theta Kappa Orientation
URL:https://eac.edu/event/phi-theta-kappa-orientation/
LOCATION:Academic Programs Building – 118 – Lecture Hall
CATEGORIES:Student Life
END:VEVENT
BEGIN:VEVENT
DTSTART;TZID=UTC:20240912T130000
DTEND;TZID=UTC:20240912T160000
DTSTAMP:20260422T075723
CREATED:20240822T130520Z
LAST-MODIFIED:20240911T180423Z
UID:10003462-1726146000-1726156800@eac.edu
SUMMARY:Open Swim - FULL-TIME EAC STUDENTS ONLY
DESCRIPTION:Open Swim – FULL-TIME EAC STUDENTS ONLY
URL:https://eac.edu/event/open-swim-full-time-eac-students-only-61/
LOCATION:Swimming Pool – POOL
CATEGORIES:Student Life
END:VEVENT
BEGIN:VEVENT
DTSTART;TZID=America/Phoenix:20240912T183000
DTEND;TZID=America/Phoenix:20240912T193000
DTSTAMP:20260422T075723
CREATED:20240909T103532Z
LAST-MODIFIED:20240912T230441Z
UID:10003752-1726165800-1726169400@eac.edu
SUMMARY:EAC Youth Theatre - Newsies Jr.
DESCRIPTION:
URL:https://eac.edu/event/eac-youth-theatre-newsies-jr-4/
LOCATION:Activities Center – Lee Little Theater\, 1020 North Stadium Avenue\, Thatcher\, AZ\, 85552\, United States
CATEGORIES:Public
END:VEVENT
BEGIN:VEVENT
DTSTART;TZID=UTC:20240912T190000
DTEND;TZID=UTC:20240912T210000
DTSTAMP:20260422T075723
CREATED:20240910T174939Z
LAST-MODIFIED:20240912T181918Z
UID:10003766-1726167600-1726174800@eac.edu
SUMMARY:EAC Intramurals
DESCRIPTION:EAC Intramurals
URL:https://eac.edu/event/eac-intramurals-17/
LOCATION:Guitteau Gymnasium & Wellness Center – 1 – Gymnasium
CATEGORIES:Student Life
END:VEVENT
END:VCALENDAR