BEGIN:VCALENDAR
VERSION:2.0
PRODID:-//Eastern Arizona College - ECPv6.15.20//NONSGML v1.0//EN
CALSCALE:GREGORIAN
METHOD:PUBLISH
X-ORIGINAL-URL:https://eac.edu
X-WR-CALDESC:Events for Eastern Arizona College
REFRESH-INTERVAL;VALUE=DURATION:PT1H
X-Robots-Tag:noindex
X-PUBLISHED-TTL:PT1H
BEGIN:VTIMEZONE
TZID:UTC
BEGIN:STANDARD
TZOFFSETFROM:+0000
TZOFFSETTO:+0000
TZNAME:UTC
DTSTART:20230101T000000
END:STANDARD
END:VTIMEZONE
BEGIN:VEVENT
DTSTART;TZID=UTC:20240826T100000
DTEND;TZID=UTC:20240826T130000
DTSTAMP:20260422T075250
CREATED:20240822T130421Z
LAST-MODIFIED:20240825T135036Z
UID:10003433-1724666400-1724677200@eac.edu
SUMMARY:Monster Exchange - EAC Students Food/Pantry
DESCRIPTION:Monster Exchange – EAC Students Food/Pantry
URL:https://eac.edu/event/monster-exchange-eac-students-food-pantry-40/
LOCATION:Middle Campus – Monster Exchange
CATEGORIES:Student Life
END:VEVENT
BEGIN:VEVENT
DTSTART;TZID=UTC:20240826T120000
DTEND;TZID=UTC:20240826T120000
DTSTAMP:20260422T075250
CREATED:20240307T233626Z
LAST-MODIFIED:20240825T135034Z
UID:10003030-1724673600-1724673600@eac.edu
SUMMARY:Fall 2024 Last Day to Withdraw Without Record and Receive a Refund for Semester-Length Classes
DESCRIPTION:
URL:https://eac.edu/event/fall-2024-last-day-to-withdraw-without-record-and-receive-a-refund-for-semester-length-classes/
LOCATION:AZ
CATEGORIES:Academic Calendar
END:VEVENT
BEGIN:VEVENT
DTSTART;TZID=UTC:20240826T130000
DTEND;TZID=UTC:20240826T160000
DTSTAMP:20260422T075250
CREATED:20240822T130421Z
LAST-MODIFIED:20240826T140426Z
UID:10003434-1724677200-1724688000@eac.edu
SUMMARY:Open Swim - FULL-TIME EAC STUDENTS ONLY
DESCRIPTION:Open Swim – FULL-TIME EAC STUDENTS ONLY
URL:https://eac.edu/event/open-swim-full-time-eac-students-only-46/
LOCATION:Swimming Pool – POOL
CATEGORIES:Student Life
END:VEVENT
BEGIN:VEVENT
DTSTART;TZID=UTC:20240826T170000
DTEND;TZID=UTC:20240826T180000
DTSTAMP:20260422T075250
CREATED:20240803T120419Z
LAST-MODIFIED:20240826T140426Z
UID:10003373-1724691600-1724695200@eac.edu
SUMMARY:ASEAC Student Council Meeting
DESCRIPTION:ASEAC Student Council Meeting
URL:https://eac.edu/event/aseac-student-council-meeting-8/
LOCATION:Gherald L. Hoopes Jr. Activities Center – AC-127 Bonita Room
CATEGORIES:Student Life
END:VEVENT
BEGIN:VEVENT
DTSTART;TZID=UTC:20240826T183000
DTEND;TZID=UTC:20240826T213000
DTSTAMP:20260422T075250
CREATED:20240725T120422Z
LAST-MODIFIED:20240826T140426Z
UID:10003358-1724697000-1724707800@eac.edu
SUMMARY:EAC Intramural - Ultimate Frisbee
DESCRIPTION:EAC Intramural – Ultimate Frisbee
URL:https://eac.edu/event/eac-intramural-ultimate-frisbee/
LOCATION:North Campus – QUAD Area
CATEGORIES:Student Life
END:VEVENT
END:VCALENDAR